BEGIN:VCALENDAR
VERSION:2.0
PRODID:-//Liberty Elite Private Members Club - ECPv5.16.3.1//NONSGML v1.0//EN
CALSCALE:GREGORIAN
METHOD:PUBLISH
X-WR-CALNAME:Liberty Elite Private Members Club
X-ORIGINAL-URL:https://libertyelite.co.uk
X-WR-CALDESC:Events for Liberty Elite Private Members Club
BEGIN:VTIMEZONE
TZID:UTC
BEGIN:STANDARD
TZOFFSETFROM:+0000
TZOFFSETTO:+0000
TZNAME:UTC
DTSTART:20170101T000000
END:STANDARD
END:VTIMEZONE
BEGIN:VEVENT
DTSTART;TZID=UTC:20170930T203000
DTEND;TZID=UTC:20171001T030000
DTSTAMP:20260419T225748
CREATED:20170928T205417Z
LAST-MODIFIED:20170928T210100Z
UID:30667-1506803400-1506826800@libertyelite.co.uk
SUMMARY:CHIC 13
DESCRIPTION:CHIC is all about CLASS – ELEGANCE – SOPHISTICATION \nCHIC parties host around 80 Sexy Couples and Hot Single Ladies. The average age is between 25 and 45 years old. \nThe Dress Code is STRICTLY modern black tie for gentlemen and sexy but classy dresses for ladies\, and please bring elegant lingerie to change into later. \nGuests will be welcomed with a glass of our award winning Prosecco and Canapés\, and may arrive any time between 8.30 pm and 10.30 pm. \nPlease remember your ID as below if you have not been to LIBS previously. \nWe always have a Top class DJ from Ministry of Sound to keep you dancing throughout the evening with a top commercial house. \nWe ask all ladies to change into their elegant sexy Lingerie around 11.30 pm to Midnight\, to switch up the party when the night becomes Very Naughty! \nTHE RECEPTION\nNot cheap bubbly\, but a glass of our award winning Prosecco; plus Complimentary Canapés to keep you going until we present our special Sumptuous Luxury Buffet\, that guests expect on these special occasions. \nENTRANCE & MEMBERSHIPS\nNever been to the club before?\nNot a problem\, for tonight come along as ‘MrsDeviants’ special guests\, so for tonight membership fees will not be required\, just complete our form in reception\, confirm your ID with your driving licenses and pay the entrance costs below. To take advantage of this offer\, go to ‘MrsDeviants’ profile on Fab Swingers and add yourselves to the guest list or contact the club via email or telephone any evening after 6.30 pm and we can add you to the list. Email info@libertyelite.co.uk Telephone 01455 552237. Full Club members are welcome as always BUT please be aware of the Dress Code. \nSPECIAL DRESS CODE\nWe and some of our guests who make the effort to look really smart are getting totally fed up with the very occasional couple who do not! Be Warned from now on if you do not come appropriately dressed You Will Not be Invited In\, even if you are on the guest list and have driven hundreds of miles to get to us…. Remember the dress code!\nBLACK TIE – Black tie used to mean dinner suit and bow tie\, however\, we are told that unfortunately\, a famous person turned up at a formal event wearing a smart waistcoat\, white collared shirt\, and normal black tie. So that is the minimum we will accept. Those making the effort with a dinner suit are sincerely appreciated! \nOPENING TIMES\nReception opens at 8.30 pm and Closes at 11.00 pm\nThe evening continues until 3.00 am \nCOSTS\nCouples £60\nSingle Ladies £25
URL:https://libertyelite.co.uk/event/chic-13/
ATTACH;FMTTYPE=image/jpeg:https://libertyelite.co.uk/wp-content/uploads/0930-1.jpg
END:VEVENT
END:VCALENDAR