BEGIN:VCALENDAR
VERSION:2.0
PRODID:-//Liberty Elite Private Members Club - ECPv5.16.3.1//NONSGML v1.0//EN
CALSCALE:GREGORIAN
METHOD:PUBLISH
X-WR-CALNAME:Liberty Elite Private Members Club
X-ORIGINAL-URL:https://libertyelite.co.uk
X-WR-CALDESC:Events for Liberty Elite Private Members Club
BEGIN:VTIMEZONE
TZID:UTC
BEGIN:STANDARD
TZOFFSETFROM:+0000
TZOFFSETTO:+0000
TZNAME:UTC
DTSTART:20210101T000000
END:STANDARD
END:VTIMEZONE
BEGIN:VEVENT
DTSTART;TZID=UTC:20211224T203000
DTEND;TZID=UTC:20211226T020000
DTSTAMP:20260425T021214
CREATED:20211010T183421Z
LAST-MODIFIED:20211010T183908Z
UID:33045-1640377800-1640484000@libertyelite.co.uk
SUMMARY:Closed
DESCRIPTION:Sorry we are closed.
URL:https://libertyelite.co.uk/event/closed-9/
ATTACH;FMTTYPE=image/jpeg:https://libertyelite.co.uk/wp-content/uploads/closed-1.jpg
END:VEVENT
END:VCALENDAR