BEGIN:VCALENDAR
VERSION:2.0
PRODID:-//Liberty Elite Private Members Club - ECPv5.16.3.1//NONSGML v1.0//EN
CALSCALE:GREGORIAN
METHOD:PUBLISH
X-WR-CALNAME:Liberty Elite Private Members Club
X-ORIGINAL-URL:https://libertyelite.co.uk
X-WR-CALDESC:Events for Liberty Elite Private Members Club
BEGIN:VTIMEZONE
TZID:UTC
BEGIN:STANDARD
TZOFFSETFROM:+0000
TZOFFSETTO:+0000
TZNAME:UTC
DTSTART:20240101T000000
END:STANDARD
END:VTIMEZONE
BEGIN:VEVENT
DTSTART;TZID=UTC:20240623T140000
DTEND;TZID=UTC:20240623T200000
DTSTAMP:20260422T043223
CREATED:20240315T103204Z
LAST-MODIFIED:20240329T173250Z
UID:34075-1719151200-1719172800@libertyelite.co.uk
SUMMARY:Femme Evolution Emancipation
DESCRIPTION:A new event in the LFE calendar \nSlightly different to our Femme Evolution events\, Emancipation bring together Females who want to do Femme Domme their way. Come and be ‘You’ and do what you do best!\nThis is a NON Protocol event for all persuasions\, our only criteria is that the person in control takes on the role of a Dominant Female and the submissive is simply that\, regardless of gender.  Due to the nature of the event\, switching on the day is discouraged.\nWe encourage liberal lifestyles and a permissive approach: we keep rules to a minimum; and they exist only where absolutely necessary. Our Dungeon Monitors (DMs) and Crew are there to supervise play\, but will also help instruct and advise as necessary.\nDRESS CODE –You will be welcome in attire associated with this fetish events\, however\, please remember – Minimum = All Black\nEvent guidance specific to our events can be found in the LibsFetishEvents Fetlife group and all guests are required to read\, understand and comply with the LFE’s Rules\, Etiquette and Guidance.  There is also first time attendance guidance there too.  Club members who are not Fetlife members should email libsfetishevents@virginmedia.com requesting this information to be sent to them \nIn addition to being one of the Midlands finest venues\, we offer-\n• Lockers\, (£10 refundable deposit on return of the key) these also contain towels for your use\, so no need to\n  bring your own.\n• A wide range of equipment is also available for your delectation\, the majority of which has been purposely\n  built for our events.\n• Swing room\n• Disabled access to all downstairs areas (excluding the jacuzzi).\n• Chenney our House Domme\, (please contact her directly via Fetlife or the LFE email if you would like to\n  discuss a short play session)\n• A plentiful buffet which is included in the entrance charge.\n• Not forgetting of course\, the usual Cake served at Embargo events. \nYou MUST REQUEST a place to attend this event\, via Fetlife (https://fetlife.com/users/4479082)\, or by email (libsfetishevents@virginmedia.com )\, and this MUST BE responded to before you consider your attendance accepted.  If you are new to us you will undergo vetting prior to acceptance.  If you are not a member of Fetlife please email us at the address above. \nSo who will be joining us?….. \nOPENING TIMES\nReception opens at 2.00 pm (Sunday afternoon) and closes at 3.30 pm\nThe club closes at 8.00 pm \nCOST\nEntrance cost is £20.00 per person.\n(Annual membership is £5.00 per person)
URL:https://libertyelite.co.uk/event/embargo-femme-evolution-emancipation/
ATTACH;FMTTYPE=image/jpeg:https://libertyelite.co.uk/wp-content/uploads/Embargo_FemmeEvoEmancipation_v2_330x471.jpg
END:VEVENT
END:VCALENDAR