BEGIN:VCALENDAR
VERSION:2.0
PRODID:-//Liberty Elite Private Members Club - ECPv5.16.3.1//NONSGML v1.0//EN
CALSCALE:GREGORIAN
METHOD:PUBLISH
X-WR-CALNAME:Liberty Elite Private Members Club
X-ORIGINAL-URL:https://libertyelite.co.uk
X-WR-CALDESC:Events for Liberty Elite Private Members Club
BEGIN:VTIMEZONE
TZID:UTC
BEGIN:STANDARD
TZOFFSETFROM:+0000
TZOFFSETTO:+0000
TZNAME:UTC
DTSTART:20240101T000000
END:STANDARD
END:VTIMEZONE
BEGIN:VEVENT
DTSTART;TZID=UTC:20241016T200000
DTEND;TZID=UTC:20241017T010000
DTSTAMP:20260419T122105
CREATED:20240731T102009Z
LAST-MODIFIED:20240913T161143Z
UID:34235-1729108800-1729126800@libertyelite.co.uk
SUMMARY:Mature Mischief 2
DESCRIPTION:Mature Mischief 2 \nA monthly mid-week adventure for those naughty\, and over 40. \nOn the THIRD Wednesday of every month our hosts\, Mr Loc & Raya\, welcome you to ‘Mature Mischief 2’ at Liberty Elite. \nThey welcome couples\, single ladies and a few\, specially invited single gentlemen. Aimed at those aged 40 and over\, this event is ideal for anyone wishing to experience a no pressure environment\, both those new to the adult lifestyle and those more experienced. \nNOTE: Couples\, only one of you needs to be over 40 to partake in this special evening. \nSocialise\, dance\, meet friends old and new\, and listen to music from the 80’s and 90’s within a safe\, secure\, fun party venue. A buffet will be provided mid-evening for you to enjoy\, and the jacuzzi will be bubbling away for you to relax in. \nNEVER BEEN TO THE CLUB BEFORE – NOT A PROBLEM\nAs an exclusive private members club you will need to become a member. Couples and single ladies may complete the membership application form in our reception foyer or can download our membership application form off our web site for pre completion\, then bring the form and your driving licence with you on the night. \nI WOULD LIKE TO ATTEND\nCOUPLES & SINGLE LADIES: To attend it helps if you contact the hosts and ask to be added to the guest list via:\nFabswingers: maturemischief2\nEmail: maturemischief2@proton.me \nSINGLE GENTLEMEN: To attend you must be on our approved list as attendance is by INVITATION ONLY. If you do not have a place registered on the single gentleman guest list you will be refused entry. If you would like to be considered for the list please contact us. \nOPENING TIMES\nReception opens at 8.00 pm and closes at 10.00 pm\nThe club closes at 1.00 am \nENTRY COST\nCouples £40\nSingle Ladies £20\nSingle gentlemen £45 \nACCOMMODATION\nWhy drive home when you can stay over in one of our FULLY AIR CONDITIONED hotel rooms\, en-suite baths and showers\, fridges\, irons and ironing boards\, hairdryers\, Hospitality TVs\, Hospitality Trays\, and really comfy King size beds. \nWHY IS IT CALLED ‘MATURE MISCHIEF 2’\nThere was originally a wonderful event called ‘Mature Mischief’\, hosted by Paul and Vin. This event ran for many years and attracted over 100 guests month on month. Sadly the event ceased in 2020 as Paul and Vin were no longer able to commit to hosting a monthly mid-week party. \nWhen Mr Loc and Raya decided to host a mature event they spoke to Paul and Vin and they very kindly allowed them to bring back the name and so\, as Mr Loc and Raya are the second set of hosts for the event ‘Mature Mischief 2’ was born.
URL:https://libertyelite.co.uk/event/mm2-1/
ATTACH;FMTTYPE=image/jpeg:https://libertyelite.co.uk/wp-content/uploads/MM2-330x471-1.jpg
END:VEVENT
END:VCALENDAR