BEGIN:VCALENDAR
VERSION:2.0
PRODID:-//Liberty Elite Private Members Club - ECPv5.16.3.1//NONSGML v1.0//EN
CALSCALE:GREGORIAN
METHOD:PUBLISH
X-WR-CALNAME:Liberty Elite Private Members Club
X-ORIGINAL-URL:https://libertyelite.co.uk
X-WR-CALDESC:Events for Liberty Elite Private Members Club
BEGIN:VTIMEZONE
TZID:UTC
BEGIN:STANDARD
TZOFFSETFROM:+0000
TZOFFSETTO:+0000
TZNAME:UTC
DTSTART:20190101T000000
END:STANDARD
END:VTIMEZONE
BEGIN:VEVENT
DTSTART;TZID=UTC:20190928T203000
DTEND;TZID=UTC:20190929T030000
DTSTAMP:20260422T070154
CREATED:20190430T083310Z
LAST-MODIFIED:20190619T072858Z
UID:32361-1569702600-1569726000@libertyelite.co.uk
SUMMARY:SDC VIP Special Event
DESCRIPTION:Tonight we introduce the first of our VERY SPECIAL SDC SPONSORED events. \nA special SDC host will present an evening that will be remembered.  \nRECEPTION\nTo night you will be welcomed with a glass of our award winning Prosecco and will be served with our complimentary specially made canapés. \nDRESS CODE\nThis a modern black tie evening. Modern black tie being shoes\, smart trousers\, a collared white shirt and black tie\, with if you wish a smart waistcoat or jacket. If you wish to go that extra mile and wear a formal dinner jacket that is much appreciated and admired. Ladies do start the evening in that super little sexy dress you have but also bring along that elegant lingerie to change into later when the mood gets more intimate.  \nENTRANCE AND MEMBERSHIP\nLiberty Elite is a very exclusive private members club\, and because we have a special relationship with SDC if you join our guest list on our SDC event profile you can visit us as our special club guest\, so will not have to cover the membership cost for this evening.\nOtherwise if you have not visited previously you will need to become a member\, however we do try to make becoming a member as straightforward as possible.\nIn any event you will need to complete our short membership application form in our reception foyer and bring your driving license with you to confirm your ID. You can also download and print the form from the home page of our web site for pre completion then just bring it with you.\nAnnual membership cost is just £20 couples £5 single ladies\nOnce the entrance formalities have been completed you will be given a tour of the club and your guide will answer any queries you may have. \nCOMMEMORATIVE PHOTOS\nWe have invited David our professional club photographer to set up his studio in the club social area so that if you wish you may have COMPLIMENTARY professional photos taken as a memento of your special night at Liberty Elite. \nTHE PARTY\nAs always we have invited a TOP CLASS DJ to play into the early hours and to do justice to our superb dance area\, class leading sound system and atmospheric lighting and play the best of the latest sounds to really make this party happen. \nTo keep the energy level high during the evening we serve our complimentary renowned luxury buffet which has been commended by food guides outside the swingers scene\, so we are confident it is the best. \nOPENING TIMES\nReception opens at 8.30 pm and Closes at 10.45 pm\nThe evening continues until 3.00 am \nCOSTS\nCouples £45\nSingle Ladies £10  \nACCOMMODATION\nWhy drive home when you can stay over in one of our FULLY AIR CONDITIONED hotel rooms and continue the party back in your room.
URL:https://libertyelite.co.uk/event/sensuous-saturday-36/
ATTACH;FMTTYPE=image/jpeg:https://libertyelite.co.uk/wp-content/uploads/SDCParty.jpg
END:VEVENT
END:VCALENDAR