BEGIN:VCALENDAR
VERSION:2.0
PRODID:-//Liberty Elite Private Members Club - ECPv5.16.3.1//NONSGML v1.0//EN
CALSCALE:GREGORIAN
METHOD:PUBLISH
X-WR-CALNAME:Liberty Elite Private Members Club
X-ORIGINAL-URL:https://libertyelite.co.uk
X-WR-CALDESC:Events for Liberty Elite Private Members Club
BEGIN:VTIMEZONE
TZID:UTC
BEGIN:STANDARD
TZOFFSETFROM:+0000
TZOFFSETTO:+0000
TZNAME:UTC
DTSTART:20240101T000000
END:STANDARD
END:VTIMEZONE
BEGIN:VEVENT
DTSTART;TZID=UTC:20240608T203000
DTEND;TZID=UTC:20240609T020000
DTSTAMP:20260422T043431
CREATED:20240315T100852Z
LAST-MODIFIED:20240520T104506Z
UID:34059-1717878600-1717898400@libertyelite.co.uk
SUMMARY:Vanilla To Vixen Summer Solstice 1967 Party
DESCRIPTION:Mr and Mrs N the naughty Podcasters from Spotify’s Vanilla To Vixen Podcast show present the Vanilla To Vixen Summer Solstice 1967 Party. \nNewcomers to the club scene are especially welcome. There is never any pressure or expectation at a Vanilla To Vixen Party.  \nJoin us for a 60’s style Summer Of Love Disco with top DJ. Our delicious buffet is also included to keep you partying until the early hours. \n60’s Fancy Dress is encouraged but not mandatory. Ladies maybe you want to wear that sexy floral dress? Gentlemen could wear a yellow shirt to represent the summer solstice sun? Maybe you want to go all out and dress as your favourite 60’s icon\, such as Jimi Hendrix or Lulu? The choice is yours!   \nSo tonight come along MEET the podcasters in person and join them for a “Sixties Summer Solstice Party” at Libs. Our Saturdays are a superb night out where members can rekindle old friendships or meet and form new ones\, have a drink and relax in our social area\, dance to music from our select DJ\, get playful in a playroom or just relax in the Spa. \nNEVER BEEN TO THE CLUB BEFORE – NOT A PROBLEM\nAs a couple you can “Just Turn Up” and complete our membership form in our reception foyer\, just remember to bring your driving licenses to confirm your ID. It does help us with planning if you go on to the “naughtycp1” profile on Fabswingers and add your name to their guest list or email them directly on naughtycp1@yahoo.com. \nOPENING TIMES\nReception opens at 8.30 pm and closes at 10.30 pm\nThe evening continues until 2.00 am \nCOST\nCouples £50\nSingle ladies £20 \nACCOMMODATION\nWhy drive home when you can relax and stay over in one of our 4 star hotel standard rooms ?.\nFully air conditioned\, en-suite baths and showers\, fridges\, irons and ironing boards\, hairdryers\, Hospitality TV`s\, Hospitality trays and really comfy King Size beds.\nPlease see our accommodation section for booking details.
URL:https://libertyelite.co.uk/event/vanilla-to-vixen-10/
ATTACH;FMTTYPE=image/jpeg:https://libertyelite.co.uk/wp-content/uploads/V2V-Summer-Solstice-330.jpg
END:VEVENT
END:VCALENDAR